Workbook

Sheet Page 1 - The Drift
B1: bleeding.money
B2: Drift to Design Template
B3: Today's Reality : Current Spending in a Typical Month
B5: Instructions:
B6: Fill in the green cells to log your income and expenses for a typical month.
B7: If a category doesn't apply, leave it blank.
B8: If an expense doesn't fit, roll it into "Other".
B9: Account for one-time or irregular expenses at the bottom.
B10: Use real numbers. For help downloading your transactions see: bleeding.money/datahelp
B11: The goal is not precision; it is an honest snapshot of reality.
B12: INCOME
B13: Income Source | C13: Notes | D13: Amount ($)
B14: Income 1 | C14: Monthly take home(after taxes and deductions)
B15: Income 2 (if any) | C15: Monthly take home(after taxes and deductions)
B16: Side Hustle / Freelance | C16: Monthly take home(after taxes and deductions)
B17: Other Income | C17: Include gifts, rental income, gov't benefits, etc.
C18: Total Income | D18: =SUM(D14:D17) -> 0
B21: EXPENSES
B22: Fixed / Essential Expenses | C22: Notes | D22: Amount ($)
B23: Housing | C23: Rent / Mortgage
C24: Repairs / upkeep
B25: Utilities | C25: Electric
C26: Natural gas
C27: Water / Sewer
C28: Trash
C29: Internet
C30: Cable/Streaming
C31: Phone(s)
C32: Other Utilities
B33: Transportation | C33: Car 1 Payment
C34: Car 1 Gas
C35: Car 1 Maintenance
C36: Car 2 Payment
C37: Car 2 Gas
C38: Car 2 Maintenance
C39: Public Transportation
C40: Ride Share
C41: Other
B42: Food | C42: Groceries and Household Items
B43: Insurance | C43: Auto
...

Sheet Page 2 - The Design
A1: bleeding.money
A2: Drift to Design Template
A3: Tomorrow's Design : Your Intentional Spending Plan
A5: Instructions:
A6: Inputs from Page 1 will carry over to Page 2.
A7: Fill in the green cells to design your intentional spending plan.
A9: INCOME
A10: Income Source | B10: Notes | C10: Amount ($)
A11: Income 1 | B11: Monthly take home(after taxes and deductions) | C11: ='Page 1 - The Drift'!D14 -> 0
A12: Income 2 (if any) | B12: Monthly take home(after taxes and deductions) | C12: ='Page 1 - The Drift'!D15 -> 0
A13: Side Hustle / Freelance | B13: Monthly take home(after taxes and deductions) | C13: ='Page 1 - The Drift'!D16 -> 0
A14: Other Income | B14: Include gifts, rental income, gov't benefits, etc. | C14: ='Page 1 - The Drift'!D17 -> 0
B15: Total Income | C15: =SUM(C11:C14) -> 0
A17: EXPENSES | C17: Drift | D17: Design | E17: Change
A18: Fixed / Essential Expenses | B18: Notes | C18: Amount ($) | D18: Amount ($) | E18: Amount ($)
A19: Housing | B19: Rent / Mortgage | C19: ='Page 1 - The Drift'!D23 -> 0 | E19: =D19-C19 -> 0
B20: Repairs / upkeep | C20: ='Page 1 - The Drift'!D24 -> 0 | E20: =D20-C20 -> 0
A21: Utilities | B21: Electric | C21: ='Page 1 - The Drift'!D25 -> 0 | E21: =D21-C21 -> 0
B22: Natural gas | C22: ='Page 1 - The Drift'!D26 -> 0 | E22: =D22-C22 -> 0
B23: Water / Sewer | C23: ='Page 1 - The Drift'!D27 -> 0 | E23: =D23-C23 -> 0
B24: Trash | C24: ='Page 1 - The Drift'!D28 -> 0 | E24: =D24-C24 -> 0
B25: Internet | C25: ='Page 1 - The Drift'!D29 -> 0 | E25: =D25-C25 -> 0
B26: Cable/Streaming | C26: ='Page 1 - The Drift'!D30 -> 0 | E26: =D26-C26 -> 0
B27: Phone(s) | C27: ='Page 1 - The Drift'!D31 -> 0 | E27: =D27-C27 -> 0
B28: Other Utilities | C28: ='Page 1 - The Drift'!D32 -> 0 | E28: =D28-C28 -> 0
A29: Transportation | B29: Car 1 Payment | C29: ='Page 1 - The Drift'!D33 -> 0 | E29: =D29-C29 -> 0
B30: Car 1 Gas | C30: ='Page 1 - The Drift'!D34 -> 0 | E30: =D30-C30 -> 0
B31: Car 1 Maintenance | C31: ='Page 1 - The Drift'!D35 -> 0 | E31: =D31-C31 -> 0
B32: Car 2 Payment | C32: ='Page 1 - The Drift'!D36 -> 0 | E32: =D32-C32 -> 0
B33: Car 2 Gas | C33: ='Page 1 - The Drift'!D37 -> 0 | E33: =D33-C33 -> 0
B34: Car 2 Maintenance | C34: ='Page 1 - The Drift'!D38 -> 0 | E34: =D34-C34 -> 0
B35: Public Transportation | C35: ='Page 1 - The Drift'!D39 -> 0 | E35: =D35-C35 -> 0
B36: Ride Share | C36: ='Page 1 - The Drift'!D40 -> 0 | E36: =D36-C36 -> 0
B37: Other | C37: ='Page 1 - The Drift'!D41 -> 0 | E37: =D37-C37 -> 0
A38: Food | B38: Groceries and Household Items | C38: ='Page 1 - The Drift'!D42 -> 0 | E38: =D38-C38 -> 0
A39: Insurance | B39: Auto | C39: ='Page 1 - The Drift'!D43 -> 0 | E39: =D39-C39 -> 0
B40: Home/Renters(if separate from mortgage) | C40: ='Page 1 - The Drift'!D44 -> 0 | E40: =D40-C40 -> 0
B41: Medical (if no payroll deduction) | C41: ='Page 1 - The Drift'!D45 -> 0 | E41: =D41-C41 -> 0
B42: Life (if no payroll deduction) | C42: ='Page 1 - The Drift'!D46 -> 0 | E42: =D42-C42 -> 0
B43: Other | C43: ='Page 1 - The Drift'!D47 -> 0 | E43: =D43-C43 -> 0
...

Sheet GPT feedback
A2: Template Improvement Suggestions (Consolidated)
A4: 1. Keep the Two-Page Structure
A6: Do not collapse the template to one page.
A8: Two pages reinforce the psychological shift:
A10: Page 1 → Today's Default (current reality)
A11: Page 2 → Tomorrow's Design (intentional plan)
A13: This separation helps people pause and reconsider rather than just editing numbers.
A17: Page 1 Improvements
A19: Page 1 Title
A21: Current:
A23: Today's Default
A25: Suggested:
... A135: Once you implement these changes, the template will be fully aligned with the philosophy of your presentation and website.
